BEGIN:VCALENDAR
VERSION:2.0
PRODID:-//Republican Women of SW Florida Federated (Naples, Bonita Springs, Marco Island, and Estero) - ECPv6.3.5//NONSGML v1.0//EN
CALSCALE:GREGORIAN
METHOD:PUBLISH
X-WR-CALNAME:Republican Women of SW Florida Federated (Naples, Bonita Springs, Marco Island, and Estero)
X-ORIGINAL-URL:https://rwsff.org
X-WR-CALDESC:Events for Republican Women of SW Florida Federated (Naples, Bonita Springs, Marco Island, and Estero)
REFRESH-INTERVAL;VALUE=DURATION:PT1H
X-Robots-Tag:noindex
X-PUBLISHED-TTL:PT1H
BEGIN:VTIMEZONE
TZID:America/New_York
BEGIN:DAYLIGHT
TZOFFSETFROM:-0500
TZOFFSETTO:-0400
TZNAME:EDT
DTSTART:20230312T070000
END:DAYLIGHT
BEGIN:STANDARD
TZOFFSETFROM:-0400
TZOFFSETTO:-0500
TZNAME:EST
DTSTART:20231105T060000
END:STANDARD
END:VTIMEZONE
BEGIN:VEVENT
DTSTART;VALUE=DATE:20230906
DTEND;VALUE=DATE:20230907
DTSTAMP:20260421T193808
CREATED:20221211T222319Z
LAST-MODIFIED:20221211T222319Z
UID:13284-1693958400-1694044799@rwsff.org
SUMMARY:Monthly Luncheon
DESCRIPTION:Monthly Luncheon Registration\n* Remember a reservation is non-refundable\, unless you provide 48 hours advance notice of cancellation.
URL:https://rwsff.org/events/monthly-luncheon-19/
END:VEVENT
BEGIN:VEVENT
DTSTART;TZID=America/New_York:20230911T163000
DTEND;TZID=America/New_York:20230911T213000
DTSTAMP:20260421T193808
CREATED:20221211T223956Z
LAST-MODIFIED:20221211T223956Z
UID:13345-1694449800-1694467800@rwsff.org
SUMMARY:School Board
DESCRIPTION:
URL:https://rwsff.org/events/school-board-18/
END:VEVENT
BEGIN:VEVENT
DTSTART;TZID=America/New_York:20230912T090000
DTEND;TZID=America/New_York:20230912T170000
DTSTAMP:20260421T193808
CREATED:20221211T235135Z
LAST-MODIFIED:20221211T235135Z
UID:13397-1694509200-1694538000@rwsff.org
SUMMARY:Board of County Commissioners
DESCRIPTION:
URL:https://rwsff.org/events/board-of-county-commissioners-20/
END:VEVENT
BEGIN:VEVENT
DTSTART;TZID=America/New_York:20230914T163000
DTEND;TZID=America/New_York:20230914T200000
DTSTAMP:20260421T193808
CREATED:20221211T224022Z
LAST-MODIFIED:20221211T224022Z
UID:13347-1694709000-1694721600@rwsff.org
SUMMARY:School Board
DESCRIPTION:
URL:https://rwsff.org/events/school-board-19/
END:VEVENT
BEGIN:VEVENT
DTSTART;VALUE=DATE:20230920
DTEND;VALUE=DATE:20230921
DTSTAMP:20260421T193808
CREATED:20221211T223118Z
LAST-MODIFIED:20221211T223118Z
UID:13312-1695168000-1695254399@rwsff.org
SUMMARY:W-3 Women\,Wine & Wisdom!
DESCRIPTION:W-3 Women\,Wine & Wisdom!- Held monthly on the 3rd Wednesday\nSign up for our membership to attend this event.
URL:https://rwsff.org/events/w-3-womenwine-wisdom-9/
END:VEVENT
BEGIN:VEVENT
DTSTART;TZID=America/New_York:20230926T090000
DTEND;TZID=America/New_York:20230926T170000
DTSTAMP:20260421T193808
CREATED:20221211T235148Z
LAST-MODIFIED:20221211T235148Z
UID:13399-1695718800-1695747600@rwsff.org
SUMMARY:Board of County Commissioners
DESCRIPTION:
URL:https://rwsff.org/events/board-of-county-commissioners-21/
END:VEVENT
END:VCALENDAR