BEGIN:VCALENDAR
VERSION:2.0
PRODID:-//Republican Women of SW Florida Federated (Naples, Bonita Springs, Marco Island, and Estero) - ECPv6.3.5//NONSGML v1.0//EN
CALSCALE:GREGORIAN
METHOD:PUBLISH
X-ORIGINAL-URL:https://rwsff.org
X-WR-CALDESC:Events for Republican Women of SW Florida Federated (Naples, Bonita Springs, Marco Island, and Estero)
REFRESH-INTERVAL;VALUE=DURATION:PT1H
X-Robots-Tag:noindex
X-PUBLISHED-TTL:PT1H
BEGIN:VTIMEZONE
TZID:America/New_York
BEGIN:DAYLIGHT
TZOFFSETFROM:-0500
TZOFFSETTO:-0400
TZNAME:EDT
DTSTART:20230312T070000
END:DAYLIGHT
BEGIN:STANDARD
TZOFFSETFROM:-0400
TZOFFSETTO:-0500
TZNAME:EST
DTSTART:20231105T060000
END:STANDARD
END:VTIMEZONE
BEGIN:VEVENT
DTSTART;VALUE=DATE:20230503
DTEND;VALUE=DATE:20230504
DTSTAMP:20260422T022140
CREATED:20221211T222114Z
LAST-MODIFIED:20221211T222114Z
UID:13276-1683072000-1683158399@rwsff.org
SUMMARY:Monthly Luncheon
DESCRIPTION:Monthly Luncheon Registration\n* Remember a reservation is non-refundable\, unless you provide 48 hours advance notice of cancellation.
URL:https://rwsff.org/events/monthly-luncheon-15/
END:VEVENT
BEGIN:VEVENT
DTSTART;TZID=America/New_York:20230509T090000
DTEND;TZID=America/New_York:20230509T170000
DTSTAMP:20260422T022140
CREATED:20221211T234630Z
LAST-MODIFIED:20221211T234630Z
UID:13377-1683622800-1683651600@rwsff.org
SUMMARY:Board of County Commissioners
DESCRIPTION:
URL:https://rwsff.org/events/board-of-county-commissioners-10/
END:VEVENT
BEGIN:VEVENT
DTSTART;TZID=America/New_York:20230509T163000
DTEND;TZID=America/New_York:20230509T210000
DTSTAMP:20260422T022140
CREATED:20221211T223748Z
LAST-MODIFIED:20221211T223748Z
UID:13334-1683649800-1683666000@rwsff.org
SUMMARY:School Board
DESCRIPTION:
URL:https://rwsff.org/events/school-board-13/
END:VEVENT
BEGIN:VEVENT
DTSTART;TZID=America/New_York:20230516T163000
DTEND;TZID=America/New_York:20230516T210000
DTSTAMP:20260422T022140
CREATED:20221211T223812Z
LAST-MODIFIED:20221211T223812Z
UID:13337-1684254600-1684270800@rwsff.org
SUMMARY:School Board
DESCRIPTION:
URL:https://rwsff.org/events/school-board-14/
END:VEVENT
BEGIN:VEVENT
DTSTART;VALUE=DATE:20230517
DTEND;VALUE=DATE:20230518
DTSTAMP:20260422T022140
CREATED:20221211T222937Z
LAST-MODIFIED:20221211T222937Z
UID:13302-1684281600-1684367999@rwsff.org
SUMMARY:W-3 Women\,Wine & Wisdom!-
DESCRIPTION:W-3 Women\,Wine & Wisdom!- Held monthly on the 3rd Wednesday\nSign up for our membership to attend this event.
URL:https://rwsff.org/events/w-3-womenwine-wisdom-4/
END:VEVENT
BEGIN:VEVENT
DTSTART;TZID=America/New_York:20230523T090000
DTEND;TZID=America/New_York:20230523T170000
DTSTAMP:20260422T022140
CREATED:20221211T234931Z
LAST-MODIFIED:20221211T234931Z
UID:13379-1684832400-1684861200@rwsff.org
SUMMARY:Board of County Commissioners
DESCRIPTION:
URL:https://rwsff.org/events/board-of-county-commissioners-11/
END:VEVENT
BEGIN:VEVENT
DTSTART;TZID=America/New_York:20230523T090000
DTEND;TZID=America/New_York:20230523T170000
DTSTAMP:20260422T022140
CREATED:20221211T235002Z
LAST-MODIFIED:20221211T235002Z
UID:13383-1684832400-1684861200@rwsff.org
SUMMARY:Board of County Commissioners
DESCRIPTION:
URL:https://rwsff.org/events/board-of-county-commissioners-13/
END:VEVENT
END:VCALENDAR