BEGIN:VCALENDAR
VERSION:2.0
PRODID:-//Republican Women of SW Florida Federated (Naples, Bonita Springs, Marco Island, and Estero) - ECPv6.3.5//NONSGML v1.0//EN
CALSCALE:GREGORIAN
METHOD:PUBLISH
X-WR-CALNAME:Republican Women of SW Florida Federated (Naples, Bonita Springs, Marco Island, and Estero)
X-ORIGINAL-URL:https://rwsff.org
X-WR-CALDESC:Events for Republican Women of SW Florida Federated (Naples, Bonita Springs, Marco Island, and Estero)
REFRESH-INTERVAL;VALUE=DURATION:PT1H
X-Robots-Tag:noindex
X-PUBLISHED-TTL:PT1H
BEGIN:VTIMEZONE
TZID:America/New_York
BEGIN:DAYLIGHT
TZOFFSETFROM:-0500
TZOFFSETTO:-0400
TZNAME:EDT
DTSTART:20230312T070000
END:DAYLIGHT
BEGIN:STANDARD
TZOFFSETFROM:-0400
TZOFFSETTO:-0500
TZNAME:EST
DTSTART:20231105T060000
END:STANDARD
END:VTIMEZONE
BEGIN:VEVENT
DTSTART;VALUE=DATE:20230301
DTEND;VALUE=DATE:20230302
DTSTAMP:20260422T055422
CREATED:20221211T221508Z
LAST-MODIFIED:20221211T221508Z
UID:13272-1677628800-1677715199@rwsff.org
SUMMARY:Monthly Luncheon
DESCRIPTION:Monthly Luncheon Registration\n* Remember a reservation is non-refundable\, unless you provide 48 hours advance notice of cancellation.
URL:https://rwsff.org/events/monthly-luncheon-13/
END:VEVENT
BEGIN:VEVENT
DTSTART;TZID=America/New_York:20230307T163000
DTEND;TZID=America/New_York:20230307T213000
DTSTAMP:20260422T055422
CREATED:20221211T223647Z
LAST-MODIFIED:20221211T223647Z
UID:13330-1678206600-1678224600@rwsff.org
SUMMARY:School Board
DESCRIPTION:
URL:https://rwsff.org/events/school-board-12/
END:VEVENT
BEGIN:VEVENT
DTSTART;TZID=America/New_York:20230308T170000
DTEND;TZID=America/New_York:20230308T220000
DTSTAMP:20260422T055422
CREATED:20221211T220954Z
LAST-MODIFIED:20221211T220954Z
UID:13265-1678294800-1678312800@rwsff.org
SUMMARY:Newt Gingrich
DESCRIPTION:Florida Citizen Alliance presents Kids and Country Gala Keynote Speaker: Newt Gingrich- Former Speaker of the House. FLCA Mission: To improve Florida’s K-12 education by uniting and empowering teachers\, students\, and parents. Ritz Carlton Golf Resort\, Tiburon 2600 Tiburon Dr. Naples\, 34109. Tickets and Registration 10% discount on General Admission tickets through Dec.
URL:https://rwsff.org/events/newt-gingrich/
END:VEVENT
BEGIN:VEVENT
DTSTART;TZID=America/New_York:20230314T090000
DTEND;TZID=America/New_York:20230314T170000
DTSTAMP:20260422T055422
CREATED:20221211T234532Z
LAST-MODIFIED:20221211T234532Z
UID:13369-1678784400-1678813200@rwsff.org
SUMMARY:Board of County Commissioners
DESCRIPTION:
URL:https://rwsff.org/events/board-of-county-commissioners-6/
END:VEVENT
BEGIN:VEVENT
DTSTART;VALUE=DATE:20230315
DTEND;VALUE=DATE:20230316
DTSTAMP:20260422T055422
CREATED:20221211T222845Z
LAST-MODIFIED:20221211T222845Z
UID:13298-1678838400-1678924799@rwsff.org
SUMMARY:W-3 Women\,Wine & Wisdom!-
DESCRIPTION:W-3 Women\,Wine & Wisdom!- Held monthly on the 3rd Wednesday\nSign up for our membership to attend this event.
URL:https://rwsff.org/events/w-3-womenwine-wisdom-2/
END:VEVENT
BEGIN:VEVENT
DTSTART;TZID=America/New_York:20230328T090000
DTEND;TZID=America/New_York:20230328T170000
DTSTAMP:20260422T055422
CREATED:20221211T234544Z
LAST-MODIFIED:20221211T234544Z
UID:13371-1679994000-1680022800@rwsff.org
SUMMARY:Board of County Commissioners
DESCRIPTION:
URL:https://rwsff.org/events/board-of-county-commissioners-7/
END:VEVENT
END:VCALENDAR