BEGIN:VCALENDAR
VERSION:2.0
PRODID:-//Republican Women of SW Florida Federated (Naples, Bonita Springs, Marco Island, and Estero) - ECPv6.3.5//NONSGML v1.0//EN
CALSCALE:GREGORIAN
METHOD:PUBLISH
X-ORIGINAL-URL:https://rwsff.org
X-WR-CALDESC:Events for Republican Women of SW Florida Federated (Naples, Bonita Springs, Marco Island, and Estero)
REFRESH-INTERVAL;VALUE=DURATION:PT1H
X-Robots-Tag:noindex
X-PUBLISHED-TTL:PT1H
BEGIN:VTIMEZONE
TZID:America/New_York
BEGIN:DAYLIGHT
TZOFFSETFROM:-0500
TZOFFSETTO:-0400
TZNAME:EDT
DTSTART:20230312T070000
END:DAYLIGHT
BEGIN:STANDARD
TZOFFSETFROM:-0400
TZOFFSETTO:-0500
TZNAME:EST
DTSTART:20231105T060000
END:STANDARD
END:VTIMEZONE
BEGIN:VEVENT
DTSTART;VALUE=DATE:20230201
DTEND;VALUE=DATE:20230202
DTSTAMP:20260422T073809
CREATED:20221211T221442Z
LAST-MODIFIED:20221211T221442Z
UID:13270-1675209600-1675295999@rwsff.org
SUMMARY:Monthly Luncheon
DESCRIPTION:Monthly Luncheon Registration\n* Remember a reservation is non-refundable\, unless you provide 48 hours advance notice of cancellation.
URL:https://rwsff.org/events/monthly-luncheon-12/
END:VEVENT
BEGIN:VEVENT
DTSTART;TZID=America/New_York:20230206T090000
DTEND;TZID=America/New_York:20230206T130000
DTSTAMP:20260422T073809
CREATED:20221211T223601Z
LAST-MODIFIED:20221211T223601Z
UID:13326-1675674000-1675688400@rwsff.org
SUMMARY:School Board
DESCRIPTION:
URL:https://rwsff.org/events/school-board-10/
END:VEVENT
BEGIN:VEVENT
DTSTART;TZID=America/New_York:20230214T090000
DTEND;TZID=America/New_York:20230214T170000
DTSTAMP:20260422T073809
CREATED:20221211T233949Z
LAST-MODIFIED:20221211T233949Z
UID:13364-1676365200-1676394000@rwsff.org
SUMMARY:Board of County Commissioners
DESCRIPTION:
URL:https://rwsff.org/events/board-of-county-commissioners-4/
END:VEVENT
BEGIN:VEVENT
DTSTART;TZID=America/New_York:20230214T163000
DTEND;TZID=America/New_York:20230214T210000
DTSTAMP:20260422T073809
CREATED:20221211T223533Z
LAST-MODIFIED:20221211T223533Z
UID:13324-1676392200-1676408400@rwsff.org
SUMMARY:School Board
DESCRIPTION:
URL:https://rwsff.org/events/school-board-9/
END:VEVENT
BEGIN:VEVENT
DTSTART;VALUE=DATE:20230215
DTEND;VALUE=DATE:20230216
DTSTAMP:20260422T073809
CREATED:20221211T222827Z
LAST-MODIFIED:20221211T222827Z
UID:13296-1676419200-1676505599@rwsff.org
SUMMARY:W-3 Women\,Wine & Wisdom!
DESCRIPTION:W-3 Women\,Wine & Wisdom!- Held monthly on the 3rd Wednesday\nSign up for our membership to attend this event.
URL:https://rwsff.org/events/w-3-womenwine-wisdom/
END:VEVENT
BEGIN:VEVENT
DTSTART;TZID=America/New_York:20230221T163000
DTEND;TZID=America/New_York:20230221T213000
DTSTAMP:20260422T073809
CREATED:20221211T223622Z
LAST-MODIFIED:20221211T223622Z
UID:13328-1676997000-1677015000@rwsff.org
SUMMARY:School Board
DESCRIPTION:
URL:https://rwsff.org/events/school-board-11/
END:VEVENT
BEGIN:VEVENT
DTSTART;VALUE=DATE:20230225
DTEND;VALUE=DATE:20230226
DTSTAMP:20260422T073809
CREATED:20221211T220812Z
LAST-MODIFIED:20221211T220812Z
UID:13263-1677283200-1677369599@rwsff.org
SUMMARY:Kayleigh McEnany
DESCRIPTION:Sat. Feb. 25 5:00 PM Community Pregnancy Clinics invites you to attend “Your Community for Life” event featuring: Kayleigh McEnany- Former White House Press Secretary & Co-Host of Outnumbered\, Fox News. Tickets and Registration
URL:https://rwsff.org/events/kayleigh-mcenany/
END:VEVENT
BEGIN:VEVENT
DTSTART;TZID=America/New_York:20230228T090000
DTEND;TZID=America/New_York:20230228T170000
DTSTAMP:20260422T073809
CREATED:20221211T234001Z
LAST-MODIFIED:20221211T234515Z
UID:13366-1677574800-1677603600@rwsff.org
SUMMARY:Board of County Commissioners
DESCRIPTION:
URL:https://rwsff.org/events/board-of-county-commissioners-5/
END:VEVENT
END:VCALENDAR