BEGIN:VCALENDAR
VERSION:2.0
PRODID:-//Republican Women of SW Florida Federated (Naples, Bonita Springs, Marco Island, and Estero) - ECPv6.3.5//NONSGML v1.0//EN
CALSCALE:GREGORIAN
METHOD:PUBLISH
X-WR-CALNAME:Republican Women of SW Florida Federated (Naples, Bonita Springs, Marco Island, and Estero)
X-ORIGINAL-URL:https://rwsff.org
X-WR-CALDESC:Events for Republican Women of SW Florida Federated (Naples, Bonita Springs, Marco Island, and Estero)
REFRESH-INTERVAL;VALUE=DURATION:PT1H
X-Robots-Tag:noindex
X-PUBLISHED-TTL:PT1H
BEGIN:VTIMEZONE
TZID:America/New_York
BEGIN:DAYLIGHT
TZOFFSETFROM:-0500
TZOFFSETTO:-0400
TZNAME:EDT
DTSTART:20230312T070000
END:DAYLIGHT
BEGIN:STANDARD
TZOFFSETFROM:-0400
TZOFFSETTO:-0500
TZNAME:EST
DTSTART:20231105T060000
END:STANDARD
END:VTIMEZONE
BEGIN:VEVENT
DTSTART;VALUE=DATE:20230104
DTEND;VALUE=DATE:20230105
DTSTAMP:20260422T092911
CREATED:20221211T221417Z
LAST-MODIFIED:20221211T221417Z
UID:13268-1672790400-1672876799@rwsff.org
SUMMARY:Monthly luncheon
DESCRIPTION:Monthly Luncheon Registration\n* Remember a reservation is non-refundable\, unless you provide 48 hours advance notice of cancellation.
URL:https://rwsff.org/events/monthly-luncheon-11/
END:VEVENT
BEGIN:VEVENT
DTSTART;TZID=America/New_York:20230110T090000
DTEND;TZID=America/New_York:20230110T170000
DTSTAMP:20260422T092911
CREATED:20221211T233921Z
LAST-MODIFIED:20221211T233921Z
UID:13360-1673341200-1673370000@rwsff.org
SUMMARY:Board of County Commissioners
DESCRIPTION:
URL:https://rwsff.org/events/board-of-county-commissioners-2/
END:VEVENT
BEGIN:VEVENT
DTSTART;TZID=America/New_York:20230110T160000
DTEND;TZID=America/New_York:20230110T200000
DTSTAMP:20260422T092911
CREATED:20221211T223431Z
LAST-MODIFIED:20221211T223431Z
UID:13320-1673366400-1673380800@rwsff.org
SUMMARY:School Board
DESCRIPTION:
URL:https://rwsff.org/events/school-board-7/
END:VEVENT
BEGIN:VEVENT
DTSTART;TZID=America/New_York:20230117T163000
DTEND;TZID=America/New_York:20230117T210000
DTSTAMP:20260422T092911
CREATED:20221211T223459Z
LAST-MODIFIED:20221211T223459Z
UID:13322-1673973000-1673989200@rwsff.org
SUMMARY:School Board
DESCRIPTION:
URL:https://rwsff.org/events/school-board-8/
END:VEVENT
BEGIN:VEVENT
DTSTART;VALUE=DATE:20230118
DTEND;VALUE=DATE:20230119
DTSTAMP:20260422T092911
CREATED:20221211T222808Z
LAST-MODIFIED:20221211T222808Z
UID:13294-1674000000-1674086399@rwsff.org
SUMMARY:Women\,Wine & Wisdom!
DESCRIPTION:W-3 Women\,Wine & Wisdom!- Held monthly on the 3rd Wednesday\nSign up for our membership to attend this event.
URL:https://rwsff.org/events/womenwine-wisdom-12/
END:VEVENT
BEGIN:VEVENT
DTSTART;TZID=America/New_York:20230124T090000
DTEND;TZID=America/New_York:20230124T170000
DTSTAMP:20260422T092911
CREATED:20221211T233934Z
LAST-MODIFIED:20221211T234119Z
UID:13362-1674550800-1674579600@rwsff.org
SUMMARY:Board of County Commissioners
DESCRIPTION:
URL:https://rwsff.org/events/board-of-county-commissioners-3/
END:VEVENT
END:VCALENDAR