BEGIN:VCALENDAR
VERSION:2.0
PRODID:-//Republican Women of SW Florida Federated (Naples, Bonita Springs, Marco Island, and Estero) - ECPv6.3.5//NONSGML v1.0//EN
CALSCALE:GREGORIAN
METHOD:PUBLISH
X-WR-CALNAME:Republican Women of SW Florida Federated (Naples, Bonita Springs, Marco Island, and Estero)
X-ORIGINAL-URL:https://rwsff.org
X-WR-CALDESC:Events for Republican Women of SW Florida Federated (Naples, Bonita Springs, Marco Island, and Estero)
REFRESH-INTERVAL;VALUE=DURATION:PT1H
X-Robots-Tag:noindex
X-PUBLISHED-TTL:PT1H
BEGIN:VTIMEZONE
TZID:America/New_York
BEGIN:DAYLIGHT
TZOFFSETFROM:-0500
TZOFFSETTO:-0400
TZNAME:EDT
DTSTART:20220313T070000
END:DAYLIGHT
BEGIN:STANDARD
TZOFFSETFROM:-0400
TZOFFSETTO:-0500
TZNAME:EST
DTSTART:20221106T060000
END:STANDARD
END:VTIMEZONE
BEGIN:VEVENT
DTSTART;VALUE=DATE:20221207
DTEND;VALUE=DATE:20221208
DTSTAMP:20260422T110036
CREATED:20220627T205322Z
LAST-MODIFIED:20220627T205322Z
UID:5491-1670371200-1670457599@rwsff.org
SUMMARY:Monthly luncheon
DESCRIPTION:Monthly Luncheon Registration\n* Remember a reservation is non-refundable\, unless you provide 48 hours advance notice of cancellation.
URL:https://rwsff.org/events/monthly-luncheon-9/
END:VEVENT
BEGIN:VEVENT
DTSTART;TZID=America/New_York:20221213T163000
DTEND;TZID=America/New_York:20221213T193000
DTSTAMP:20260422T110036
CREATED:20220204T051814Z
LAST-MODIFIED:20220204T051814Z
UID:1099-1670949000-1670959800@rwsff.org
SUMMARY:School Board
DESCRIPTION:Collier County Public Schools- School Board Meeting 4:30 PM Dr. Martin Luther King Jr. Administrative Center 5775 Osceola Trail\, Naples\, 34109
URL:https://rwsff.org/events/school-board-6/
END:VEVENT
BEGIN:VEVENT
DTSTART;TZID=America/New_York:20221215T170000
DTEND;TZID=America/New_York:20221215T203000
DTSTAMP:20260422T110036
CREATED:20221211T220357Z
LAST-MODIFIED:20221211T220357Z
UID:13259-1671123600-1671136200@rwsff.org
SUMMARY:Naples Republican Club- Christmas Dinner and Dance
DESCRIPTION:
URL:https://rwsff.org/events/naples-republican-club-christmas-dinner-and-dance/
END:VEVENT
BEGIN:VEVENT
DTSTART;VALUE=DATE:20221217
DTEND;VALUE=DATE:20221218
DTSTAMP:20260422T110036
CREATED:20221211T220428Z
LAST-MODIFIED:20221211T220428Z
UID:13261-1671235200-1671321599@rwsff.org
SUMMARY:Wreaths Across America
DESCRIPTION:Wreaths Across America -Look for local Celebrations at Veterans Cemeteries
URL:https://rwsff.org/events/wreaths-across-america/
END:VEVENT
BEGIN:VEVENT
DTSTART;VALUE=DATE:20221221
DTEND;VALUE=DATE:20221222
DTSTAMP:20260422T110036
CREATED:20220627T204832Z
LAST-MODIFIED:20220627T204832Z
UID:5479-1671580800-1671667199@rwsff.org
SUMMARY:Women\,Wine & Wisdom!
DESCRIPTION:W-3 Women\,Wine & Wisdom!- Held monthly on the 3rd Wednesday\nSign up for our membership to attend this event.
URL:https://rwsff.org/events/womenwine-wisdom-11/
END:VEVENT
END:VCALENDAR