BEGIN:VCALENDAR
VERSION:2.0
PRODID:-//Republican Women of SW Florida Federated (Naples, Bonita Springs, Marco Island, and Estero) - ECPv6.3.5//NONSGML v1.0//EN
CALSCALE:GREGORIAN
METHOD:PUBLISH
X-ORIGINAL-URL:https://rwsff.org
X-WR-CALDESC:Events for Republican Women of SW Florida Federated (Naples, Bonita Springs, Marco Island, and Estero)
REFRESH-INTERVAL;VALUE=DURATION:PT1H
X-Robots-Tag:noindex
X-PUBLISHED-TTL:PT1H
BEGIN:VTIMEZONE
TZID:America/New_York
BEGIN:DAYLIGHT
TZOFFSETFROM:-0500
TZOFFSETTO:-0400
TZNAME:EDT
DTSTART:20220313T070000
END:DAYLIGHT
BEGIN:STANDARD
TZOFFSETFROM:-0400
TZOFFSETTO:-0500
TZNAME:EST
DTSTART:20221106T060000
END:STANDARD
END:VTIMEZONE
BEGIN:VEVENT
DTSTART;TZID=America/New_York:20220702T083000
DTEND;TZID=America/New_York:20220702T173000
DTSTAMP:20260422T190535
CREATED:20220627T211536Z
LAST-MODIFIED:20220627T211536Z
UID:5542-1656750600-1656783000@rwsff.org
SUMMARY:Alfie Oakes' 2nd Annual Fourth of July American Celebration
DESCRIPTION:Alfie Oakes’ 2nd Annual Fourth of July American Celebration \n  \nhttps://freedom-friday.ticketleap.com/alfie-oakes-2nd-annual-fourth-of-july-american-celebration/ \n*Transportation tickets sold out already; now you have to partner with someone with a boat to get there*
URL:https://rwsff.org/events/alfie-oakes-2nd-annual-fourth-of-july-american-celebration/
END:VEVENT
BEGIN:VEVENT
DTSTART;VALUE=DATE:20220704
DTEND;VALUE=DATE:20220705
DTSTAMP:20260422T190535
CREATED:20220627T210259Z
LAST-MODIFIED:20220627T210259Z
UID:5517-1656892800-1656979199@rwsff.org
SUMMARY:Independence Day
DESCRIPTION:
URL:https://rwsff.org/events/independence-day/
END:VEVENT
BEGIN:VEVENT
DTSTART;TZID=America/New_York:20220704T090000
DTEND;TZID=America/New_York:20220704T130000
DTSTAMP:20260422T190535
CREATED:20220627T210328Z
LAST-MODIFIED:20220627T210351Z
UID:5519-1656925200-1656939600@rwsff.org
SUMMARY:Parade
DESCRIPTION:Collier County Republicans in the City of Naples Independence Day Parade
URL:https://rwsff.org/events/parade/
END:VEVENT
BEGIN:VEVENT
DTSTART;TZID=America/New_York:20220705T103000
DTEND;TZID=America/New_York:20220705T123000
DTSTAMP:20260422T190535
CREATED:20220628T010514Z
LAST-MODIFIED:20220628T010514Z
UID:5586-1657017000-1657024200@rwsff.org
SUMMARY:Collier County Finance Committee
DESCRIPTION:
URL:https://rwsff.org/events/collier-county-finance-committee/
END:VEVENT
BEGIN:VEVENT
DTSTART;TZID=America/New_York:20220705T170000
DTEND;TZID=America/New_York:20220705T190000
DTSTAMP:20260422T190535
CREATED:20220627T211148Z
LAST-MODIFIED:20220627T211148Z
UID:5524-1657040400-1657047600@rwsff.org
SUMMARY:Patriot Project with Richard
DESCRIPTION:
URL:https://rwsff.org/events/patriot-project-with-richard/
END:VEVENT
BEGIN:VEVENT
DTSTART;TZID=America/New_York:20220705T190000
DTEND;TZID=America/New_York:20220705T200000
DTSTAMP:20260422T190535
CREATED:20220627T211320Z
LAST-MODIFIED:20220627T211320Z
UID:5534-1657047600-1657051200@rwsff.org
SUMMARY:Patriot Talk Show with Brendon Leslie
DESCRIPTION:
URL:https://rwsff.org/events/patriot-talk-show-with-brendon-leslie-2/
END:VEVENT
BEGIN:VEVENT
DTSTART;VALUE=DATE:20220706
DTEND;VALUE=DATE:20220707
DTSTAMP:20260422T190535
CREATED:20220627T205046Z
LAST-MODIFIED:20220627T205104Z
UID:5481-1657065600-1657151999@rwsff.org
SUMMARY:Monthly luncheon
DESCRIPTION:Monthly Luncheon Registration\n* Remember a reservation is non-refundable\, unless you provide 48 hours advance notice of cancellation.
URL:https://rwsff.org/events/monthly-luncheon-4/
END:VEVENT
BEGIN:VEVENT
DTSTART;TZID=America/New_York:20220706T113000
DTEND;TZID=America/New_York:20220706T133000
DTSTAMP:20260422T190535
CREATED:20220628T011401Z
LAST-MODIFIED:20220628T011401Z
UID:5599-1657107000-1657114200@rwsff.org
SUMMARY:Monthly Luncheon
DESCRIPTION:RWSFF Meeting Sign Up Page
URL:https://rwsff.org/events/monthly-luncheon-10/
END:VEVENT
BEGIN:VEVENT
DTSTART;TZID=America/New_York:20220706T130000
DTEND;TZID=America/New_York:20220706T150000
DTSTAMP:20260422T190535
CREATED:20220628T010553Z
LAST-MODIFIED:20220628T010553Z
UID:5588-1657112400-1657119600@rwsff.org
SUMMARY:Conservation Collier Land Acquisition Advisory Committee
DESCRIPTION:
URL:https://rwsff.org/events/conservation-collier-land-acquisition-advisory-committee/
END:VEVENT
BEGIN:VEVENT
DTSTART;TZID=America/New_York:20220707T090000
DTEND;TZID=America/New_York:20220707T110000
DTSTAMP:20260422T190535
CREATED:20220628T010618Z
LAST-MODIFIED:20220628T010618Z
UID:5590-1657184400-1657191600@rwsff.org
SUMMARY:Collier County Planning Commission
DESCRIPTION:
URL:https://rwsff.org/events/collier-county-planning-commission/
END:VEVENT
BEGIN:VEVENT
DTSTART;TZID=America/New_York:20220708T073000
DTEND;TZID=America/New_York:20220708T090000
DTSTAMP:20260422T190535
CREATED:20220627T212301Z
LAST-MODIFIED:20220627T212301Z
UID:5555-1657265400-1657270800@rwsff.org
SUMMARY:July Breakfast – Candidate Forum – Collier County School Board
DESCRIPTION:July Breakfast – Candidate Forum – Collier County School Board
URL:https://rwsff.org/events/july-breakfast-candidate-forum-collier-county-school-board/
END:VEVENT
BEGIN:VEVENT
DTSTART;TZID=America/New_York:20220711T083000
DTEND;TZID=America/New_York:20220711T103000
DTSTAMP:20260422T190535
CREATED:20220628T010648Z
LAST-MODIFIED:20220628T010648Z
UID:5592-1657528200-1657535400@rwsff.org
SUMMARY:Affordable Housing Advisory Committee
DESCRIPTION:
URL:https://rwsff.org/events/affordable-housing-advisory-committee/
END:VEVENT
BEGIN:VEVENT
DTSTART;TZID=America/New_York:20220711T173000
DTEND;TZID=America/New_York:20220711T193000
DTSTAMP:20260422T190535
CREATED:20220627T211858Z
LAST-MODIFIED:20220627T211858Z
UID:5547-1657560600-1657567800@rwsff.org
SUMMARY:C/T Task Force Meeting
DESCRIPTION:
URL:https://rwsff.org/events/c-t-task-force-meeting-2/
END:VEVENT
BEGIN:VEVENT
DTSTART;TZID=America/New_York:20220712T090000
DTEND;TZID=America/New_York:20220712T130000
DTSTAMP:20260422T190535
CREATED:20220628T010715Z
LAST-MODIFIED:20220628T010715Z
UID:5594-1657616400-1657630800@rwsff.org
SUMMARY:Board of County Commissioners
DESCRIPTION:
URL:https://rwsff.org/events/board-of-county-commissioners/
END:VEVENT
BEGIN:VEVENT
DTSTART;TZID=America/New_York:20220712T170000
DTEND;TZID=America/New_York:20220712T190000
DTSTAMP:20260422T190535
CREATED:20220627T211202Z
LAST-MODIFIED:20220627T211202Z
UID:5526-1657645200-1657652400@rwsff.org
SUMMARY:Patriot Project with Dan Cook
DESCRIPTION:
URL:https://rwsff.org/events/patriot-project-with-dan-cook-4/
END:VEVENT
BEGIN:VEVENT
DTSTART;TZID=America/New_York:20220712T190000
DTEND;TZID=America/New_York:20220712T200000
DTSTAMP:20260422T190535
CREATED:20220627T211336Z
LAST-MODIFIED:20220627T211336Z
UID:5536-1657652400-1657656000@rwsff.org
SUMMARY:Patriot Talk Show with Brendon Leslie
DESCRIPTION:
URL:https://rwsff.org/events/patriot-talk-show-with-brendon-leslie-3/
END:VEVENT
BEGIN:VEVENT
DTSTART;TZID=America/New_York:20220718T173000
DTEND;TZID=America/New_York:20220718T193000
DTSTAMP:20260422T190535
CREATED:20220627T211912Z
LAST-MODIFIED:20220627T211912Z
UID:5549-1658165400-1658172600@rwsff.org
SUMMARY:C/T Task Force Meeting
DESCRIPTION:
URL:https://rwsff.org/events/c-t-task-force-meeting-3/
END:VEVENT
BEGIN:VEVENT
DTSTART;TZID=America/New_York:20220719T170000
DTEND;TZID=America/New_York:20220719T190000
DTSTAMP:20260422T190535
CREATED:20220627T211218Z
LAST-MODIFIED:20220627T211218Z
UID:5528-1658250000-1658257200@rwsff.org
SUMMARY:Patriot Project with Dan Cook
DESCRIPTION:
URL:https://rwsff.org/events/patriot-project-with-dan-cook-5/
END:VEVENT
BEGIN:VEVENT
DTSTART;TZID=America/New_York:20220719T190000
DTEND;TZID=America/New_York:20220719T200000
DTSTAMP:20260422T190535
CREATED:20220627T211353Z
LAST-MODIFIED:20220627T211353Z
UID:5538-1658257200-1658260800@rwsff.org
SUMMARY:Patriot Talk Show with Brendon Leslie
DESCRIPTION:
URL:https://rwsff.org/events/patriot-talk-show-with-brendon-leslie-4/
END:VEVENT
BEGIN:VEVENT
DTSTART;VALUE=DATE:20220720
DTEND;VALUE=DATE:20220721
DTSTAMP:20260422T190535
CREATED:20220627T204647Z
LAST-MODIFIED:20220627T204647Z
UID:5469-1658275200-1658361599@rwsff.org
SUMMARY:Women\,Wine & Wisdom!
DESCRIPTION:W-3 Women\,Wine & Wisdom!- Held monthly on the 3rd Wednesday\nSign up for our membership to attend this event.
URL:https://rwsff.org/events/womenwine-wisdom-6/
END:VEVENT
BEGIN:VEVENT
DTSTART;VALUE=DATE:20220722
DTEND;VALUE=DATE:20220725
DTSTAMP:20260422T190535
CREATED:20220627T213156Z
LAST-MODIFIED:20220627T213156Z
UID:5559-1658448000-1658707199@rwsff.org
SUMMARY:SAS - Turning Point USA in Tampa
DESCRIPTION:https://www.tpusa.com/SAS
URL:https://rwsff.org/events/sas-turning-point-usa-in-tampa/
END:VEVENT
BEGIN:VEVENT
DTSTART;TZID=America/New_York:20220725T173000
DTEND;TZID=America/New_York:20220725T193000
DTSTAMP:20260422T190535
CREATED:20220627T211925Z
LAST-MODIFIED:20220627T211925Z
UID:5551-1658770200-1658777400@rwsff.org
SUMMARY:C/T Task Force Meeting
DESCRIPTION:
URL:https://rwsff.org/events/c-t-task-force-meeting-4/
END:VEVENT
BEGIN:VEVENT
DTSTART;TZID=America/New_York:20220726T170000
DTEND;TZID=America/New_York:20220726T190000
DTSTAMP:20260422T190535
CREATED:20220627T211231Z
LAST-MODIFIED:20220627T211231Z
UID:5530-1658854800-1658862000@rwsff.org
SUMMARY:Patriot Project with Dan Cook
DESCRIPTION:
URL:https://rwsff.org/events/patriot-project-with-dan-cook-6/
END:VEVENT
BEGIN:VEVENT
DTSTART;TZID=America/New_York:20220726T190000
DTEND;TZID=America/New_York:20220726T200000
DTSTAMP:20260422T190535
CREATED:20220627T211408Z
LAST-MODIFIED:20220627T211408Z
UID:5540-1658862000-1658865600@rwsff.org
SUMMARY:Patriot Talk Show with Brendon Leslie
DESCRIPTION:
URL:https://rwsff.org/events/patriot-talk-show-with-brendon-leslie-5/
END:VEVENT
BEGIN:VEVENT
DTSTART;TZID=America/New_York:20220728T163000
DTEND;TZID=America/New_York:20220728T193000
DTSTAMP:20260422T190535
CREATED:20220204T051525Z
LAST-MODIFIED:20220204T051525Z
UID:1089-1659025800-1659036600@rwsff.org
SUMMARY:School Board and Budget
DESCRIPTION:Collier County Public Schools- School Board Meeting 4:30 PM Dr. Martin Luther King Jr. Administrative Center 5775 Osceola Trail\, Naples\, 34109
URL:https://rwsff.org/events/school-board-and-budget/
END:VEVENT
END:VCALENDAR