BEGIN:VCALENDAR
VERSION:2.0
PRODID:-//Republican Women of SW Florida Federated (Naples, Bonita Springs, Marco Island, and Estero) - ECPv6.3.5//NONSGML v1.0//EN
CALSCALE:GREGORIAN
METHOD:PUBLISH
X-ORIGINAL-URL:https://rwsff.org
X-WR-CALDESC:Events for Republican Women of SW Florida Federated (Naples, Bonita Springs, Marco Island, and Estero)
REFRESH-INTERVAL;VALUE=DURATION:PT1H
X-Robots-Tag:noindex
X-PUBLISHED-TTL:PT1H
BEGIN:VTIMEZONE
TZID:America/New_York
BEGIN:DAYLIGHT
TZOFFSETFROM:-0500
TZOFFSETTO:-0400
TZNAME:EDT
DTSTART:20220313T070000
END:DAYLIGHT
BEGIN:STANDARD
TZOFFSETFROM:-0400
TZOFFSETTO:-0500
TZNAME:EST
DTSTART:20221106T060000
END:STANDARD
END:VTIMEZONE
BEGIN:VEVENT
DTSTART;VALUE=DATE:20220504
DTEND;VALUE=DATE:20220505
DTSTAMP:20260422T222709
CREATED:20220204T021606Z
LAST-MODIFIED:20220204T021606Z
UID:970-1651622400-1651708799@rwsff.org
SUMMARY:Monthly luncheon
DESCRIPTION:Monthly Luncheon Registration\n* Remember a reservation is non-refundable\, unless you provide 48 hours advance notice of cancellation.
URL:https://rwsff.org/events/monthly-luncheon-3/
END:VEVENT
BEGIN:VEVENT
DTSTART;VALUE=DATE:20220504
DTEND;VALUE=DATE:20220505
DTSTAMP:20260422T222709
CREATED:20220627T204445Z
LAST-MODIFIED:20220627T204445Z
UID:5465-1651622400-1651708799@rwsff.org
SUMMARY:Michael Maibach - Distinguished Fellow in American Federalism- Save Our States
DESCRIPTION:Michael Maibach a seasoned professional in global business diplomacy\, advisor to non-profit organizations\, and a supporter of vital civic causes. Michael is a gifted speaker teaching the history we need to know of the founding fathers and relating it through the years to today. His speech to RWSFF is ” The Electoral College & Our Laboratories of State Government.” Our country was created in what Madison called a “compound republic” (Federalist 51); this design has served us well. We will see how and why Florida is a Great state today with one the Greatest Governors of our time- Governor Ron DeSantis.\n\nOn a more personal note Michael will be in Boston this week speaking Tuesday evening to the College Republicans at my Alma Mater- Boston College and he’ll be speaking on Mon. evening to the College Republicans at Harvard University- Yes they have Republicans!
URL:https://rwsff.org/events/michael-maibach-distinguished-fellow-in-american-federalism-save-our-states/
END:VEVENT
BEGIN:VEVENT
DTSTART;TZID=America/New_York:20220504T113000
DTEND;TZID=America/New_York:20220504T133000
DTSTAMP:20260422T222709
CREATED:20220404T131314Z
LAST-MODIFIED:20220404T131314Z
UID:1616-1651663800-1651671000@rwsff.org
SUMMARY:Republican Women of SWFL Federated
DESCRIPTION:
URL:https://rwsff.org/events/republican-women-of-swfl-federated/
END:VEVENT
BEGIN:VEVENT
DTSTART;TZID=America/New_York:20220505T170000
DTEND;TZID=America/New_York:20220505T190000
DTSTAMP:20260422T222709
CREATED:20220404T131339Z
LAST-MODIFIED:20220404T131339Z
UID:1618-1651770000-1651777200@rwsff.org
SUMMARY:Florida Citizens Alliance Collier County Commissioner Forum
DESCRIPTION:
URL:https://rwsff.org/events/florida-citizens-alliance-collier-county-commissioner-forum/
END:VEVENT
BEGIN:VEVENT
DTSTART;TZID=America/New_York:20220506T073000
DTEND;TZID=America/New_York:20220506T090000
DTSTAMP:20260422T222709
CREATED:20220204T040804Z
LAST-MODIFIED:20220204T040804Z
UID:1040-1651822200-1651827600@rwsff.org
SUMMARY:Legislative Update with State Representatives
DESCRIPTION:https://collierrepublicanmensclub.com/event/may-breakfast-legislative-update-with-state-representatives/
URL:https://rwsff.org/events/legislative-update-with-state-representatives/
END:VEVENT
BEGIN:VEVENT
DTSTART;TZID=America/New_York:20220510T163000
DTEND;TZID=America/New_York:20220510T193000
DTSTAMP:20260422T222709
CREATED:20220204T051420Z
LAST-MODIFIED:20220204T051420Z
UID:1085-1652200200-1652211000@rwsff.org
SUMMARY:School Board
DESCRIPTION:Collier County Public Schools- School Board Meeting 4:30 PM Dr. Martin Luther King Jr. Administrative Center 5775 Osceola Trail\, Naples\, 34109
URL:https://rwsff.org/events/school-board-2/
END:VEVENT
BEGIN:VEVENT
DTSTART;TZID=America/New_York:20220517T170000
DTEND;TZID=America/New_York:20220517T190000
DTSTAMP:20260422T222709
CREATED:20220404T131403Z
LAST-MODIFIED:20220404T131403Z
UID:1620-1652806800-1652814000@rwsff.org
SUMMARY:Florida Citizens Alliance Collier County School Board Forum
DESCRIPTION:
URL:https://rwsff.org/events/florida-citizens-alliance-collier-county-school-board-forum/
END:VEVENT
BEGIN:VEVENT
DTSTART;VALUE=DATE:20220518
DTEND;VALUE=DATE:20220519
DTSTAMP:20260422T222709
CREATED:20220204T021708Z
LAST-MODIFIED:20220204T030745Z
UID:972-1652832000-1652918399@rwsff.org
SUMMARY:Women\,Wine & Wisdom!
DESCRIPTION:W-3 Women\,Wine & Wisdom!- Held monthly on the 3rd Wednesday\nSign up for our membership to attend this event.
URL:https://rwsff.org/events/womenwine-wisdom-4/
END:VEVENT
BEGIN:VEVENT
DTSTART;TZID=America/New_York:20220524T170000
DTEND;TZID=America/New_York:20220524T190000
DTSTAMP:20260422T222709
CREATED:20220404T131423Z
LAST-MODIFIED:20220404T131423Z
UID:1622-1653411600-1653418800@rwsff.org
SUMMARY:Florida Citizens Alliance Collier County Commissioner Forum
DESCRIPTION:
URL:https://rwsff.org/events/florida-citizens-alliance-collier-county-commissioner-forum-2/
END:VEVENT
END:VCALENDAR