BEGIN:VCALENDAR
VERSION:2.0
PRODID:-//Republican Women of SW Florida Federated (Naples, Bonita Springs, Marco Island, and Estero) - ECPv6.3.5//NONSGML v1.0//EN
CALSCALE:GREGORIAN
METHOD:PUBLISH
X-WR-CALNAME:Republican Women of SW Florida Federated (Naples, Bonita Springs, Marco Island, and Estero)
X-ORIGINAL-URL:https://rwsff.org
X-WR-CALDESC:Events for Republican Women of SW Florida Federated (Naples, Bonita Springs, Marco Island, and Estero)
REFRESH-INTERVAL;VALUE=DURATION:PT1H
X-Robots-Tag:noindex
X-PUBLISHED-TTL:PT1H
BEGIN:VTIMEZONE
TZID:America/New_York
BEGIN:DAYLIGHT
TZOFFSETFROM:-0500
TZOFFSETTO:-0400
TZNAME:EDT
DTSTART:20220313T070000
END:DAYLIGHT
BEGIN:STANDARD
TZOFFSETFROM:-0400
TZOFFSETTO:-0500
TZNAME:EST
DTSTART:20221106T060000
END:STANDARD
END:VTIMEZONE
BEGIN:VEVENT
DTSTART;TZID=America/New_York:20220401T073000
DTEND;TZID=America/New_York:20220401T090000
DTSTAMP:20260423T001917
CREATED:20220204T040730Z
LAST-MODIFIED:20220204T040730Z
UID:1038-1648798200-1648803600@rwsff.org
SUMMARY:Michael Mailbach
DESCRIPTION:April Breakfast – Michael C Maibach – “The Founders’ Federalism: Our Nation of States”.
URL:https://rwsff.org/events/michael-mailbach/
END:VEVENT
BEGIN:VEVENT
DTSTART;VALUE=DATE:20220406
DTEND;VALUE=DATE:20220407
DTSTAMP:20260423T001917
CREATED:20220204T021532Z
LAST-MODIFIED:20220204T053842Z
UID:968-1649203200-1649289599@rwsff.org
SUMMARY:Monthly Luncheon
DESCRIPTION:Monthly Luncheon Registration\n* Remember a reservation is non-refundable\, unless you provide 48 hours advance notice of cancellation.
URL:https://rwsff.org/events/monthly-luncheon-2/
END:VEVENT
BEGIN:VEVENT
DTSTART;TZID=America/New_York:20220406T113000
DTEND;TZID=America/New_York:20220406T133000
DTSTAMP:20260423T001917
CREATED:20220404T130523Z
LAST-MODIFIED:20220404T130523Z
UID:1589-1649244600-1649251800@rwsff.org
SUMMARY:Meeting
DESCRIPTION:
URL:https://rwsff.org/events/meeting/
END:VEVENT
BEGIN:VEVENT
DTSTART;TZID=America/New_York:20220409T090000
DTEND;TZID=America/New_York:20220409T110000
DTSTAMP:20260423T001917
CREATED:20220404T130337Z
LAST-MODIFIED:20220404T130337Z
UID:1581-1649494800-1649502000@rwsff.org
SUMMARY:Rally for Freedom-First Responders\, Cuban Freedom\, the Bill of Rights
DESCRIPTION:
URL:https://rwsff.org/events/rally-for-freedom-first-responders-cuban-freedom-the-bill-of-rights/
END:VEVENT
BEGIN:VEVENT
DTSTART;TZID=America/New_York:20220409T090000
DTEND;TZID=America/New_York:20220409T180000
DTSTAMP:20260423T001917
CREATED:20220204T023313Z
LAST-MODIFIED:20220204T054027Z
UID:975-1649494800-1649527200@rwsff.org
SUMMARY:Medical Conference
DESCRIPTION:https://scofield-production.ticketleap.com/lets-talk-covid-community-conference/?fbclid=IwAR3oYpq1oUDhL4bv65PzYh6XfXFPFCCTdpShfhBeKH98mWGdISRLMUPPGCk \n  \n*This in not a Republican Women of SW Florida Federated Event. We may or may not agree with the views of these lectures\, but we believe in freely sharing information relevant to local politics.
URL:https://rwsff.org/events/medical-conference/
END:VEVENT
BEGIN:VEVENT
DTSTART;TZID=America/New_York:20220412T163000
DTEND;TZID=America/New_York:20220412T193000
DTSTAMP:20260423T001917
CREATED:20220204T051343Z
LAST-MODIFIED:20220204T051343Z
UID:1083-1649781000-1649791800@rwsff.org
SUMMARY:School Board (Everglades)
DESCRIPTION:
URL:https://rwsff.org/events/school-board-everglades/
END:VEVENT
BEGIN:VEVENT
DTSTART;TZID=America/New_York:20220413T113000
DTEND;TZID=America/New_York:20220413T133000
DTSTAMP:20260423T001917
CREATED:20220404T130614Z
LAST-MODIFIED:20220404T130614Z
UID:1591-1649849400-1649856600@rwsff.org
SUMMARY:Luncheons4Life
DESCRIPTION:
URL:https://rwsff.org/events/luncheons4life/
END:VEVENT
BEGIN:VEVENT
DTSTART;TZID=America/New_York:20220415T180000
DTEND;TZID=America/New_York:20220415T210000
DTSTAMP:20260423T001917
CREATED:20220404T130659Z
LAST-MODIFIED:20220404T130659Z
UID:1593-1650045600-1650056400@rwsff.org
SUMMARY:Sunset
DESCRIPTION:
URL:https://rwsff.org/events/sunset/
END:VEVENT
BEGIN:VEVENT
DTSTART;TZID=America/New_York:20220416T090000
DTEND;TZID=America/New_York:20220416T110000
DTSTAMP:20260423T001917
CREATED:20220404T130400Z
LAST-MODIFIED:20220404T130400Z
UID:1583-1650099600-1650106800@rwsff.org
SUMMARY:Rally for Freedom-First Responders\, Cuban Freedom\, the Bill of Rights
DESCRIPTION:
URL:https://rwsff.org/events/rally-for-freedom-first-responders-cuban-freedom-the-bill-of-rights-2/
END:VEVENT
BEGIN:VEVENT
DTSTART;VALUE=DATE:20220420
DTEND;VALUE=DATE:20220421
DTSTAMP:20260423T001917
CREATED:20220203T213924Z
LAST-MODIFIED:20220204T030801Z
UID:949-1650412800-1650499199@rwsff.org
SUMMARY:Women\,Wine & Wisdom!
DESCRIPTION:W-3 Women\,Wine & Wisdom!- Held monthly on the 3rd Wednesday\nSign up for our membership to attend this event.
URL:https://rwsff.org/events/womenwine-wisdom-3/
END:VEVENT
BEGIN:VEVENT
DTSTART;TZID=America/New_York:20220420T170000
DTEND;TZID=America/New_York:20220420T210000
DTSTAMP:20260423T001917
CREATED:20220404T130835Z
LAST-MODIFIED:20220404T130835Z
UID:1595-1650474000-1650488400@rwsff.org
SUMMARY:Naples Republican Club
DESCRIPTION:
URL:https://rwsff.org/events/naples-republican-club/
END:VEVENT
BEGIN:VEVENT
DTSTART;TZID=America/New_York:20220421T173000
DTEND;TZID=America/New_York:20220421T193000
DTSTAMP:20260423T001917
CREATED:20220404T130907Z
LAST-MODIFIED:20220404T130907Z
UID:1597-1650562200-1650569400@rwsff.org
SUMMARY:Estero Republic Club
DESCRIPTION:
URL:https://rwsff.org/events/estero-republic-club-2/
END:VEVENT
BEGIN:VEVENT
DTSTART;TZID=America/New_York:20220421T190000
DTEND;TZID=America/New_York:20220421T210000
DTSTAMP:20260423T001917
CREATED:20220404T130947Z
LAST-MODIFIED:20220404T130947Z
UID:1599-1650567600-1650574800@rwsff.org
SUMMARY:CWA Naples
DESCRIPTION:
URL:https://rwsff.org/events/cwa-naples/
END:VEVENT
BEGIN:VEVENT
DTSTART;VALUE=DATE:20220423
DTEND;VALUE=DATE:20220501
DTSTAMP:20260423T001917
CREATED:20220404T131008Z
LAST-MODIFIED:20220404T131008Z
UID:1601-1650672000-1651363199@rwsff.org
SUMMARY:US Open Pickleball Championship
DESCRIPTION:
URL:https://rwsff.org/events/us-open-pickleball-championship/
END:VEVENT
BEGIN:VEVENT
DTSTART;TZID=America/New_York:20220423T090000
DTEND;TZID=America/New_York:20220423T110000
DTSTAMP:20260423T001917
CREATED:20220404T130416Z
LAST-MODIFIED:20220404T130416Z
UID:1585-1650704400-1650711600@rwsff.org
SUMMARY:Rally for Freedom-First Responders\, Cuban Freedom\, the Bill of Rights
DESCRIPTION:
URL:https://rwsff.org/events/rally-for-freedom-first-responders-cuban-freedom-the-bill-of-rights-3/
END:VEVENT
BEGIN:VEVENT
DTSTART;TZID=America/New_York:20220425T050000
DTEND;TZID=America/New_York:20220425T190000
DTSTAMP:20260423T001917
CREATED:20220404T131028Z
LAST-MODIFIED:20220404T131028Z
UID:1603-1650862800-1650913200@rwsff.org
SUMMARY:Tim Moshier Meet and Greet
DESCRIPTION:
URL:https://rwsff.org/events/tim-moshier-meet-and-greet/
END:VEVENT
BEGIN:VEVENT
DTSTART;TZID=America/New_York:20220426T170000
DTEND;TZID=America/New_York:20220426T190000
DTSTAMP:20260423T001917
CREATED:20220404T131051Z
LAST-MODIFIED:20220404T131051Z
UID:1605-1650992400-1650999600@rwsff.org
SUMMARY:Florida Citizens Alliance School Board Forum
DESCRIPTION:
URL:https://rwsff.org/events/florida-citizens-alliance-school-board-forum/
END:VEVENT
BEGIN:VEVENT
DTSTART;TZID=America/New_York:20220426T170000
DTEND;TZID=America/New_York:20220426T190000
DTSTAMP:20260423T001917
CREATED:20220404T131113Z
LAST-MODIFIED:20220404T131113Z
UID:1608-1650992400-1650999600@rwsff.org
SUMMARY:Republican Club of South Collier
DESCRIPTION:
URL:https://rwsff.org/events/republican-club-of-south-collier-2/
END:VEVENT
BEGIN:VEVENT
DTSTART;TZID=America/New_York:20220426T173000
DTEND;TZID=America/New_York:20220426T193000
DTSTAMP:20260423T001917
CREATED:20220404T131142Z
LAST-MODIFIED:20220404T131142Z
UID:1610-1650994200-1651001400@rwsff.org
SUMMARY:Estero Republic Club
DESCRIPTION:
URL:https://rwsff.org/events/estero-republic-club-3/
END:VEVENT
BEGIN:VEVENT
DTSTART;TZID=America/New_York:20220428T180000
DTEND;TZID=America/New_York:20220428T200000
DTSTAMP:20260423T001917
CREATED:20220404T131210Z
LAST-MODIFIED:20220404T131210Z
UID:1612-1651168800-1651176000@rwsff.org
SUMMARY:Republican Liberty Caucus SWFL
DESCRIPTION:
URL:https://rwsff.org/events/republican-liberty-caucus-swfl/
END:VEVENT
BEGIN:VEVENT
DTSTART;TZID=America/New_York:20220429T180000
DTEND;TZID=America/New_York:20220429T200000
DTSTAMP:20260423T001917
CREATED:20220404T131234Z
LAST-MODIFIED:20220404T131247Z
UID:1614-1651255200-1651262400@rwsff.org
SUMMARY:Phyllis Schlafly Eagles of FL
DESCRIPTION:
URL:https://rwsff.org/events/phyllis-schlafly-eagles-of-fl/
END:VEVENT
BEGIN:VEVENT
DTSTART;TZID=America/New_York:20220430T090000
DTEND;TZID=America/New_York:20220430T110000
DTSTAMP:20260423T001917
CREATED:20220404T130434Z
LAST-MODIFIED:20220404T130434Z
UID:1587-1651309200-1651316400@rwsff.org
SUMMARY:Rally for Freedom-First Responders\, Cuban Freedom\, the Bill of Rights
DESCRIPTION:
URL:https://rwsff.org/events/rally-for-freedom-first-responders-cuban-freedom-the-bill-of-rights-4/
END:VEVENT
END:VCALENDAR