BEGIN:VCALENDAR
VERSION:2.0
PRODID:-//Republican Women of SW Florida Federated (Naples, Bonita Springs, Marco Island, and Estero) - ECPv6.3.5//NONSGML v1.0//EN
CALSCALE:GREGORIAN
METHOD:PUBLISH
X-WR-CALNAME:Republican Women of SW Florida Federated (Naples, Bonita Springs, Marco Island, and Estero)
X-ORIGINAL-URL:https://rwsff.org
X-WR-CALDESC:Events for Republican Women of SW Florida Federated (Naples, Bonita Springs, Marco Island, and Estero)
REFRESH-INTERVAL;VALUE=DURATION:PT1H
X-Robots-Tag:noindex
X-PUBLISHED-TTL:PT1H
BEGIN:VTIMEZONE
TZID:America/New_York
BEGIN:DAYLIGHT
TZOFFSETFROM:-0500
TZOFFSETTO:-0400
TZNAME:EDT
DTSTART:20230312T070000
END:DAYLIGHT
BEGIN:STANDARD
TZOFFSETFROM:-0400
TZOFFSETTO:-0500
TZNAME:EST
DTSTART:20231105T060000
END:STANDARD
END:VTIMEZONE
BEGIN:VEVENT
DTSTART;TZID=America/New_York:20231212T043000
DTEND;TZID=America/New_York:20231212T203000
DTSTAMP:20260421T062648
CREATED:20231222T173039Z
LAST-MODIFIED:20231222T173039Z
UID:23437-1702355400-1702413000@rwsff.org
SUMMARY:Collier County Public Schools-School Board Meeting
DESCRIPTION:Collier County Public Schools-School Board Meeting- Dr. Martin Luther King Jr. Administrative Center 5775 Osceola Trail\, Naples\, 342109
URL:https://rwsff.org/events/collier-county-public-schools-school-board-meeting-3/
END:VEVENT
BEGIN:VEVENT
DTSTART;TZID=America/New_York:20231212T090000
DTEND;TZID=America/New_York:20231212T170000
DTSTAMP:20260421T062648
CREATED:20221211T235255Z
LAST-MODIFIED:20221211T235255Z
UID:13409-1702371600-1702400400@rwsff.org
SUMMARY:Board of County Commissioners
DESCRIPTION:
URL:https://rwsff.org/events/board-of-county-commissioners-26/
END:VEVENT
BEGIN:VEVENT
DTSTART;TZID=America/New_York:20231212T160000
DTEND;TZID=America/New_York:20231212T180000
DTSTAMP:20260421T062648
CREATED:20231222T173112Z
LAST-MODIFIED:20231222T173112Z
UID:23439-1702396800-1702404000@rwsff.org
SUMMARY:Kari Lake & Jim Breuer
DESCRIPTION:Seed to Table- FREE book signing Kari Lake followed by a presentation with Kari Lake & Jim Breuer 7-8:00 PM. Seed to Table 4835 Immokalee Rd. Naples\, 34110
URL:https://rwsff.org/events/kari-lake-jim-breuer/
END:VEVENT
BEGIN:VEVENT
DTSTART;TZID=America/New_York:20231212T163000
DTEND;TZID=America/New_York:20231212T210000
DTSTAMP:20260421T062648
CREATED:20221211T224217Z
LAST-MODIFIED:20221211T224217Z
UID:13355-1702398600-1702414800@rwsff.org
SUMMARY:School Board
DESCRIPTION:
URL:https://rwsff.org/events/school-board-22/
END:VEVENT
END:VCALENDAR