BEGIN:VCALENDAR
VERSION:2.0
PRODID:-//Republican Women of SW Florida Federated (Naples, Bonita Springs, Marco Island, and Estero) - ECPv6.3.5//NONSGML v1.0//EN
CALSCALE:GREGORIAN
METHOD:PUBLISH
X-ORIGINAL-URL:https://rwsff.org
X-WR-CALDESC:Events for Republican Women of SW Florida Federated (Naples, Bonita Springs, Marco Island, and Estero)
REFRESH-INTERVAL;VALUE=DURATION:PT1H
X-Robots-Tag:noindex
X-PUBLISHED-TTL:PT1H
BEGIN:VTIMEZONE
TZID:America/New_York
BEGIN:DAYLIGHT
TZOFFSETFROM:-0500
TZOFFSETTO:-0400
TZNAME:EDT
DTSTART:20230312T070000
END:DAYLIGHT
BEGIN:STANDARD
TZOFFSETFROM:-0400
TZOFFSETTO:-0500
TZNAME:EST
DTSTART:20231105T060000
END:STANDARD
END:VTIMEZONE
BEGIN:VEVENT
DTSTART;TZID=America/New_York:20231010T090000
DTEND;TZID=America/New_York:20231010T170000
DTSTAMP:20260421T010219
CREATED:20221211T235202Z
LAST-MODIFIED:20221211T235202Z
UID:13401-1696928400-1696957200@rwsff.org
SUMMARY:Board of County Commissioners
DESCRIPTION:
URL:https://rwsff.org/events/board-of-county-commissioners-22/
END:VEVENT
BEGIN:VEVENT
DTSTART;TZID=America/New_York:20231010T163000
DTEND;TZID=America/New_York:20231010T210000
DTSTAMP:20260421T010219
CREATED:20221211T224112Z
LAST-MODIFIED:20221211T224112Z
UID:13349-1696955400-1696971600@rwsff.org
SUMMARY:School Board  (Immokalee High School)
DESCRIPTION:(Immokalee High School)
URL:https://rwsff.org/events/school-board-immokalee-high-school/
END:VEVENT
END:VCALENDAR