BEGIN:VCALENDAR
VERSION:2.0
PRODID:-//Republican Women of SW Florida Federated (Naples, Bonita Springs, Marco Island, and Estero) - ECPv6.3.5//NONSGML v1.0//EN
CALSCALE:GREGORIAN
METHOD:PUBLISH
X-ORIGINAL-URL:https://rwsff.org
X-WR-CALDESC:Events for Republican Women of SW Florida Federated (Naples, Bonita Springs, Marco Island, and Estero)
REFRESH-INTERVAL;VALUE=DURATION:PT1H
X-Robots-Tag:noindex
X-PUBLISHED-TTL:PT1H
BEGIN:VTIMEZONE
TZID:America/New_York
BEGIN:DAYLIGHT
TZOFFSETFROM:-0500
TZOFFSETTO:-0400
TZNAME:EDT
DTSTART:20230312T070000
END:DAYLIGHT
BEGIN:STANDARD
TZOFFSETFROM:-0400
TZOFFSETTO:-0500
TZNAME:EST
DTSTART:20231105T060000
END:STANDARD
END:VTIMEZONE
BEGIN:VEVENT
DTSTART;TZID=America/New_York:20230308T170000
DTEND;TZID=America/New_York:20230308T220000
DTSTAMP:20260422T073619
CREATED:20221211T220954Z
LAST-MODIFIED:20221211T220954Z
UID:13265-1678294800-1678312800@rwsff.org
SUMMARY:Newt Gingrich
DESCRIPTION:Florida Citizen Alliance presents Kids and Country Gala Keynote Speaker: Newt Gingrich- Former Speaker of the House. FLCA Mission: To improve Florida’s K-12 education by uniting and empowering teachers\, students\, and parents. Ritz Carlton Golf Resort\, Tiburon 2600 Tiburon Dr. Naples\, 34109. Tickets and Registration 10% discount on General Admission tickets through Dec.
URL:https://rwsff.org/events/newt-gingrich/
END:VEVENT
END:VCALENDAR