BEGIN:VCALENDAR
VERSION:2.0
PRODID:-//Republican Women of SW Florida Federated (Naples, Bonita Springs, Marco Island, and Estero) - ECPv6.3.5//NONSGML v1.0//EN
CALSCALE:GREGORIAN
METHOD:PUBLISH
X-ORIGINAL-URL:https://rwsff.org
X-WR-CALDESC:Events for Republican Women of SW Florida Federated (Naples, Bonita Springs, Marco Island, and Estero)
REFRESH-INTERVAL;VALUE=DURATION:PT1H
X-Robots-Tag:noindex
X-PUBLISHED-TTL:PT1H
BEGIN:VTIMEZONE
TZID:America/New_York
BEGIN:DAYLIGHT
TZOFFSETFROM:-0500
TZOFFSETTO:-0400
TZNAME:EDT
DTSTART:20220313T070000
END:DAYLIGHT
BEGIN:STANDARD
TZOFFSETFROM:-0400
TZOFFSETTO:-0500
TZNAME:EST
DTSTART:20221106T060000
END:STANDARD
END:VTIMEZONE
BEGIN:VEVENT
DTSTART;TZID=America/New_York:20220920T163000
DTEND;TZID=America/New_York:20220920T210000
DTSTAMP:20260422T173450
CREATED:20220912T200815Z
LAST-MODIFIED:20220912T200815Z
UID:9597-1663691400-1663707600@rwsff.org
SUMMARY:Collier County Public Schools- School Board Work Session
DESCRIPTION:
URL:https://rwsff.org/events/collier-county-public-schools-school-board-work-session/
END:VEVENT
BEGIN:VEVENT
DTSTART;TZID=America/New_York:20220920T170000
DTEND;TZID=America/New_York:20220920T190000
DTSTAMP:20260422T173450
CREATED:20220912T201707Z
LAST-MODIFIED:20220912T201707Z
UID:9599-1663693200-1663700400@rwsff.org
SUMMARY:Naples Republican Club -End of Summer Gathering- Conservative Cocktails
DESCRIPTION:
URL:https://rwsff.org/events/naples-republican-club-end-of-summer-gathering-conservative-cocktails/
END:VEVENT
END:VCALENDAR