BEGIN:VCALENDAR
VERSION:2.0
PRODID:-//Republican Women of SW Florida Federated (Naples, Bonita Springs, Marco Island, and Estero) - ECPv6.3.5//NONSGML v1.0//EN
CALSCALE:GREGORIAN
METHOD:PUBLISH
X-WR-CALNAME:Republican Women of SW Florida Federated (Naples, Bonita Springs, Marco Island, and Estero)
X-ORIGINAL-URL:https://rwsff.org
X-WR-CALDESC:Events for Republican Women of SW Florida Federated (Naples, Bonita Springs, Marco Island, and Estero)
REFRESH-INTERVAL;VALUE=DURATION:PT1H
X-Robots-Tag:noindex
X-PUBLISHED-TTL:PT1H
BEGIN:VTIMEZONE
TZID:America/New_York
BEGIN:DAYLIGHT
TZOFFSETFROM:-0500
TZOFFSETTO:-0400
TZNAME:EDT
DTSTART:20220313T070000
END:DAYLIGHT
BEGIN:STANDARD
TZOFFSETFROM:-0400
TZOFFSETTO:-0500
TZNAME:EST
DTSTART:20221106T060000
END:STANDARD
END:VTIMEZONE
BEGIN:VEVENT
DTSTART;TZID=America/New_York:20220711T083000
DTEND;TZID=America/New_York:20220711T103000
DTSTAMP:20260422T203825
CREATED:20220628T010648Z
LAST-MODIFIED:20220628T010648Z
UID:5592-1657528200-1657535400@rwsff.org
SUMMARY:Affordable Housing Advisory Committee
DESCRIPTION:
URL:https://rwsff.org/events/affordable-housing-advisory-committee/
END:VEVENT
BEGIN:VEVENT
DTSTART;TZID=America/New_York:20220711T173000
DTEND;TZID=America/New_York:20220711T193000
DTSTAMP:20260422T203825
CREATED:20220627T211858Z
LAST-MODIFIED:20220627T211858Z
UID:5547-1657560600-1657567800@rwsff.org
SUMMARY:C/T Task Force Meeting
DESCRIPTION:
URL:https://rwsff.org/events/c-t-task-force-meeting-2/
END:VEVENT
END:VCALENDAR