BEGIN:VCALENDAR
VERSION:2.0
PRODID:-//Republican Women of SW Florida Federated (Naples, Bonita Springs, Marco Island, and Estero) - ECPv6.3.5//NONSGML v1.0//EN
CALSCALE:GREGORIAN
METHOD:PUBLISH
X-WR-CALNAME:Republican Women of SW Florida Federated (Naples, Bonita Springs, Marco Island, and Estero)
X-ORIGINAL-URL:https://rwsff.org
X-WR-CALDESC:Events for Republican Women of SW Florida Federated (Naples, Bonita Springs, Marco Island, and Estero)
REFRESH-INTERVAL;VALUE=DURATION:PT1H
X-Robots-Tag:noindex
X-PUBLISHED-TTL:PT1H
BEGIN:VTIMEZONE
TZID:America/New_York
BEGIN:DAYLIGHT
TZOFFSETFROM:-0500
TZOFFSETTO:-0400
TZNAME:EDT
DTSTART:20220313T070000
END:DAYLIGHT
BEGIN:STANDARD
TZOFFSETFROM:-0400
TZOFFSETTO:-0500
TZNAME:EST
DTSTART:20221106T060000
END:STANDARD
END:VTIMEZONE
BEGIN:VEVENT
DTSTART;VALUE=DATE:20220614
DTEND;VALUE=DATE:20220615
DTSTAMP:20260422T222306
CREATED:20220627T210042Z
LAST-MODIFIED:20220627T210042Z
UID:5507-1655164800-1655251199@rwsff.org
SUMMARY:Flag Day
DESCRIPTION:Flag Day
URL:https://rwsff.org/events/flag-day/
END:VEVENT
BEGIN:VEVENT
DTSTART;TZID=America/New_York:20220614T163000
DTEND;TZID=America/New_York:20220614T190000
DTSTAMP:20260422T222306
CREATED:20220627T210120Z
LAST-MODIFIED:20220627T210120Z
UID:5509-1655224200-1655233200@rwsff.org
SUMMARY:Collier County Public Schools-School Board Meeting
DESCRIPTION:Collier County Public Schools-School Board Meeting
URL:https://rwsff.org/events/collier-county-public-schools-school-board-meeting-2/
END:VEVENT
BEGIN:VEVENT
DTSTART;TZID=America/New_York:20220614T163000
DTEND;TZID=America/New_York:20220614T193000
DTSTAMP:20260422T222306
CREATED:20220204T051445Z
LAST-MODIFIED:20220204T051445Z
UID:1087-1655224200-1655235000@rwsff.org
SUMMARY:School Board
DESCRIPTION:Collier County Public Schools- School Board Meeting 4:30 PM Dr. Martin Luther King Jr. Administrative Center 5775 Osceola Trail\, Naples\, 34109
URL:https://rwsff.org/events/school-board-3/
END:VEVENT
END:VCALENDAR