BEGIN:VCALENDAR
VERSION:2.0
PRODID:-//Republican Women of SW Florida Federated (Naples, Bonita Springs, Marco Island, and Estero) - ECPv6.3.5//NONSGML v1.0//EN
CALSCALE:GREGORIAN
METHOD:PUBLISH
X-WR-CALNAME:Republican Women of SW Florida Federated (Naples, Bonita Springs, Marco Island, and Estero)
X-ORIGINAL-URL:https://rwsff.org
X-WR-CALDESC:Events for Republican Women of SW Florida Federated (Naples, Bonita Springs, Marco Island, and Estero)
REFRESH-INTERVAL;VALUE=DURATION:PT1H
X-Robots-Tag:noindex
X-PUBLISHED-TTL:PT1H
BEGIN:VTIMEZONE
TZID:America/New_York
BEGIN:DAYLIGHT
TZOFFSETFROM:-0500
TZOFFSETTO:-0400
TZNAME:EDT
DTSTART:20220313T070000
END:DAYLIGHT
BEGIN:STANDARD
TZOFFSETFROM:-0400
TZOFFSETTO:-0500
TZNAME:EST
DTSTART:20221106T060000
END:STANDARD
END:VTIMEZONE
BEGIN:VEVENT
DTSTART;TZID=America/New_York:20220506T073000
DTEND;TZID=America/New_York:20220506T090000
DTSTAMP:20260423T001803
CREATED:20220204T040804Z
LAST-MODIFIED:20220204T040804Z
UID:1040-1651822200-1651827600@rwsff.org
SUMMARY:Legislative Update with State Representatives
DESCRIPTION:https://collierrepublicanmensclub.com/event/may-breakfast-legislative-update-with-state-representatives/
URL:https://rwsff.org/events/legislative-update-with-state-representatives/
END:VEVENT
END:VCALENDAR