BEGIN:VCALENDAR
VERSION:2.0
PRODID:-//Republican Women of SW Florida Federated (Naples, Bonita Springs, Marco Island, and Estero) - ECPv6.3.5//NONSGML v1.0//EN
CALSCALE:GREGORIAN
METHOD:PUBLISH
X-ORIGINAL-URL:https://rwsff.org
X-WR-CALDESC:Events for Republican Women of SW Florida Federated (Naples, Bonita Springs, Marco Island, and Estero)
REFRESH-INTERVAL;VALUE=DURATION:PT1H
X-Robots-Tag:noindex
X-PUBLISHED-TTL:PT1H
BEGIN:VTIMEZONE
TZID:America/New_York
BEGIN:DAYLIGHT
TZOFFSETFROM:-0500
TZOFFSETTO:-0400
TZNAME:EDT
DTSTART:20220313T070000
END:DAYLIGHT
BEGIN:STANDARD
TZOFFSETFROM:-0400
TZOFFSETTO:-0500
TZNAME:EST
DTSTART:20221106T060000
END:STANDARD
END:VTIMEZONE
BEGIN:VEVENT
DTSTART;VALUE=DATE:20220423
DTEND;VALUE=DATE:20220501
DTSTAMP:20260423T020040
CREATED:20220404T131008Z
LAST-MODIFIED:20220404T131008Z
UID:1601-1650672000-1651363199@rwsff.org
SUMMARY:US Open Pickleball Championship
DESCRIPTION:
URL:https://rwsff.org/events/us-open-pickleball-championship/
END:VEVENT
BEGIN:VEVENT
DTSTART;TZID=America/New_York:20220425T050000
DTEND;TZID=America/New_York:20220425T190000
DTSTAMP:20260423T020040
CREATED:20220404T131028Z
LAST-MODIFIED:20220404T131028Z
UID:1603-1650862800-1650913200@rwsff.org
SUMMARY:Tim Moshier Meet and Greet
DESCRIPTION:
URL:https://rwsff.org/events/tim-moshier-meet-and-greet/
END:VEVENT
END:VCALENDAR