BEGIN:VCALENDAR
VERSION:2.0
PRODID:-//Republican Women of SW Florida Federated (Naples, Bonita Springs, Marco Island, and Estero) - ECPv6.3.5//NONSGML v1.0//EN
CALSCALE:GREGORIAN
METHOD:PUBLISH
X-ORIGINAL-URL:https://rwsff.org
X-WR-CALDESC:Events for Republican Women of SW Florida Federated (Naples, Bonita Springs, Marco Island, and Estero)
REFRESH-INTERVAL;VALUE=DURATION:PT1H
X-Robots-Tag:noindex
X-PUBLISHED-TTL:PT1H
BEGIN:VTIMEZONE
TZID:America/New_York
BEGIN:DAYLIGHT
TZOFFSETFROM:-0500
TZOFFSETTO:-0400
TZNAME:EDT
DTSTART:20220313T070000
END:DAYLIGHT
BEGIN:STANDARD
TZOFFSETFROM:-0400
TZOFFSETTO:-0500
TZNAME:EST
DTSTART:20221106T060000
END:STANDARD
END:VTIMEZONE
BEGIN:VEVENT
DTSTART;TZID=America/New_York:20220409T090000
DTEND;TZID=America/New_York:20220409T110000
DTSTAMP:20260423T020128
CREATED:20220404T130337Z
LAST-MODIFIED:20220404T130337Z
UID:1581-1649494800-1649502000@rwsff.org
SUMMARY:Rally for Freedom-First Responders\, Cuban Freedom\, the Bill of Rights
DESCRIPTION:
URL:https://rwsff.org/events/rally-for-freedom-first-responders-cuban-freedom-the-bill-of-rights/
END:VEVENT
BEGIN:VEVENT
DTSTART;TZID=America/New_York:20220409T090000
DTEND;TZID=America/New_York:20220409T180000
DTSTAMP:20260423T020128
CREATED:20220204T023313Z
LAST-MODIFIED:20220204T054027Z
UID:975-1649494800-1649527200@rwsff.org
SUMMARY:Medical Conference
DESCRIPTION:https://scofield-production.ticketleap.com/lets-talk-covid-community-conference/?fbclid=IwAR3oYpq1oUDhL4bv65PzYh6XfXFPFCCTdpShfhBeKH98mWGdISRLMUPPGCk \n  \n*This in not a Republican Women of SW Florida Federated Event. We may or may not agree with the views of these lectures\, but we believe in freely sharing information relevant to local politics.
URL:https://rwsff.org/events/medical-conference/
END:VEVENT
END:VCALENDAR